BEGIN:VCALENDAR
VERSION:2.0
PRODID:-//OSD4ALL - ECPv6.15.20//NONSGML v1.0//EN
CALSCALE:GREGORIAN
METHOD:PUBLISH
X-WR-CALNAME:OSD4ALL
X-ORIGINAL-URL:https://osd4all.org
X-WR-CALDESC:Events for OSD4ALL
REFRESH-INTERVAL;VALUE=DURATION:PT1H
X-Robots-Tag:noindex
X-PUBLISHED-TTL:PT1H
BEGIN:VTIMEZONE
TZID:America/Los_Angeles
BEGIN:DAYLIGHT
TZOFFSETFROM:-0800
TZOFFSETTO:-0700
TZNAME:PDT
DTSTART:20250309T100000
END:DAYLIGHT
BEGIN:STANDARD
TZOFFSETFROM:-0700
TZOFFSETTO:-0800
TZNAME:PST
DTSTART:20251102T090000
END:STANDARD
BEGIN:DAYLIGHT
TZOFFSETFROM:-0800
TZOFFSETTO:-0700
TZNAME:PDT
DTSTART:20260308T100000
END:DAYLIGHT
BEGIN:STANDARD
TZOFFSETFROM:-0700
TZOFFSETTO:-0800
TZNAME:PST
DTSTART:20261101T090000
END:STANDARD
BEGIN:DAYLIGHT
TZOFFSETFROM:-0800
TZOFFSETTO:-0700
TZNAME:PDT
DTSTART:20270314T100000
END:DAYLIGHT
BEGIN:STANDARD
TZOFFSETFROM:-0700
TZOFFSETTO:-0800
TZNAME:PST
DTSTART:20271107T090000
END:STANDARD
END:VTIMEZONE
BEGIN:VEVENT
DTSTART;TZID=America/Los_Angeles:20260409T080000
DTEND;TZID=America/Los_Angeles:20260506T170000
DTSTAMP:20260424T020730
CREATED:20260410T050603Z
LAST-MODIFIED:20260410T060057Z
UID:29165-1775721600-1778086800@osd4all.org
SUMMARY:ORLA + Ridwell Plastic Film Recycling Drive
DESCRIPTION:More Information
URL:https://osd4all.org/event/orla-ridwell-plastic-film-recycling-drive/
LOCATION:Olympia Regional Learning Academy\, 2400 15th Avenue Southeast\, Olympia\, Washington\, 98501\, United States
CATEGORIES:Community Events,ORLA,Parent-Teacher Org Event/Meeting
ATTACH;FMTTYPE=image/png:https://osd4all.org/wp-content/uploads/2026/04/Image-4-9-26-at-22.06.png
ORGANIZER;CN="ORLA PTA":MAILTO:contact@orlapta.org
END:VEVENT
BEGIN:VEVENT
DTSTART;TZID=America/Los_Angeles:20260424T150000
DTEND;TZID=America/Los_Angeles:20260425T120000
DTSTAMP:20260424T020730
CREATED:20260421T214458Z
LAST-MODIFIED:20260421T214502Z
UID:29213-1777042800-1777118400@osd4all.org
SUMMARY:OSD Student Art Show & Market
DESCRIPTION:
URL:https://osd4all.org/event/osd-student-art-show-market/
LOCATION:Three Magnets Brewing\, 600 Franklin St SE\, Olympia\, Washington\, 98501\, United States
CATEGORIES:Community Events,Community Organizing,OSD4All Fundraiser
ATTACH;FMTTYPE=image/png:https://osd4all.org/wp-content/uploads/2026/04/APRIL-24-25.png
END:VEVENT
BEGIN:VEVENT
DTSTART;TZID=America/Los_Angeles:20260424T184500
DTEND;TZID=America/Los_Angeles:20260424T203000
DTSTAMP:20260424T020730
CREATED:20260421T213933Z
LAST-MODIFIED:20260421T213936Z
UID:29210-1777056300-1777062600@osd4all.org
SUMMARY:Roosevelt PTA presents Nanny McPhee
DESCRIPTION:
URL:https://osd4all.org/event/roosevelt-pta-presents-nanny-mcphee/
LOCATION:Roosevelt Elementary School\, 1417 San Francisco Ave NE\, Olympia\, Washington\, 98506\, United States
CATEGORIES:Parent-Teacher Org Event/Meeting,Roosevelt,Roosevelt
ATTACH;FMTTYPE=image/jpeg:https://osd4all.org/wp-content/uploads/2026/01/roosevelt-header.jpg
ORGANIZER;CN="Roosevelt PTA":MAILTO:rooseveltptapresident@gmail.com
END:VEVENT
END:VCALENDAR